|SUCCESS| [GIT MASTER] 7cd4df57fb216489979528d603d39a7a5d1529da
dpdklab at iol.unh.edu
dpdklab at iol.unh.edu
Mon May 22 21:01:39 CEST 2023
_Testing PASS_
Branch: dpdk-next-net
7cd4df57fb216489979528d603d39a7a5d1529da --> testing pass
Test environment and result as below:
+----------------------+---------------------------+------------------------------+--------------+
| Environment | cryptodev_sw_zuc_autotest | cryptodev_sw_snow3g_autotest | lpm_autotest |
+======================+===========================+==============================+==============+
| Debian 11 | PASS | PASS | SKIPPED |
+----------------------+---------------------------+------------------------------+--------------+
| Ubuntu 20.04 ARM SVE | SKIPPED | SKIPPED | PASS |
+----------------------+---------------------------+------------------------------+--------------+
Debian 11
Kernel: Container Host Kernel
Compiler: gcc 10.2.1
Ubuntu 20.04 ARM SVE
Kernel: 5.4.0-80-generic
Compiler: gcc 10.3.0 (Ubuntu 10.3.0-1ubuntu1~20.04)
To view detailed results, visit:
https://lab.dpdk.org/results/dashboard/tarballs/24667/
UNH-IOL DPDK Community Lab
To manage your email subscriptions, visit:
https://lab.dpdk.org/results/dashboard/preferences/subscriptions/
More information about the test-report
mailing list