|SUCCESS| pw127161 [PATCH] [v3] event/cnxk: use LMTST for enqueue ne
dpdklab at iol.unh.edu
dpdklab at iol.unh.edu
Tue May 23 06:55:37 CEST 2023
Test-Label: iol-abi-testing
Test-Status: SUCCESS
http://dpdk.org/patch/127161
_Testing PASS_
Submitter: Pavan Nikhilesh Bhagavatula <pbhagavatula at marvell.com>
Date: Monday, May 22 2023 11:56:35
DPDK git baseline: Repo:dpdk
Branch: master
CommitID:a399d7b5a994e335c446d4b15d7622d71dd8848c
127161 --> testing pass
Test environment and result as below:
+---------------+----------+
| Environment | abi_test |
+===============+==========+
| Debian Buster | PASS |
+---------------+----------+
| RHEL 7 | PASS |
+---------------+----------+
| Ubuntu 22.04 | PASS |
+---------------+----------+
Debian Buster
Kernel: 5.4.0-122-generic
Compiler: gcc 8.3.0-6
RHEL 7
Kernel: 4.18.0-240.10.1.el8_3.x86_64
Compiler: gcc 4.8.5 20150623 (Red Hat 4.8.5-44)
Ubuntu 22.04
Kernel: 4.18.0-240.10.1.el8_3.x86_64
Compiler: gcc 11.3.0
To view detailed results, visit:
https://lab.dpdk.org/results/dashboard/patchsets/26329/
UNH-IOL DPDK Community Lab
To manage your email subscriptions, visit:
https://lab.dpdk.org/results/dashboard/preferences/subscriptions/
More information about the test-report
mailing list