|SUCCESS| [GIT MASTER] a1f6846d57dbc0ad2a39ec92d1ee98d6993dda31

dpdklab at iol.unh.edu dpdklab at iol.unh.edu
Tue May 23 14:08:13 CEST 2023


_Testing PASS_

Branch: dpdk-next-eventdev

a1f6846d57dbc0ad2a39ec92d1ee98d6993dda31 --> testing pass

Test environment and result as below:

+--------------------------+----------------+
|       Environment        | dpdk_unit_test |
+==========================+================+
| CentOS Stream 9 (ARM)    | PASS           |
+--------------------------+----------------+
| CentOS Stream 8          | PASS           |
+--------------------------+----------------+
| openSUSE Leap 15         | PASS           |
+--------------------------+----------------+
| Ubuntu 22.04             | PASS           |
+--------------------------+----------------+
| Ubuntu 20.04             | PASS           |
+--------------------------+----------------+
| Fedora 36 Clang (ARM)    | PASS           |
+--------------------------+----------------+
| Fedora 36 (ARM)          | PASS           |
+--------------------------+----------------+
| RHEL 7                   | PASS           |
+--------------------------+----------------+
| Debian 11 (Buster) (ARM) | PASS           |
+--------------------------+----------------+
| RHEL8                    | PASS           |
+--------------------------+----------------+
| Ubuntu 20.04 (ARM)       | PASS           |
+--------------------------+----------------+


CentOS Stream 9 (ARM)
	Kernel: Container Host Kernel
	Compiler: gcc 11.3.1

CentOS Stream 8
	Kernel: 4.18.0-240.10.1.el8_3.x86_64
	Compiler: gcc 8.4.1 20200928

openSUSE Leap 15
	Kernel: 4.18.0-240.10.1.el8_3.x86_64
	Compiler: gcc 7.5.0

Ubuntu 22.04
	Kernel: Container Host Kernel
	Compiler: gcc 12.2.1-2

Ubuntu 20.04
	Kernel: 4.18.0-240.10.1.el8_3.x86_64
	Compiler: gcc 9.3.0-17ubuntu1~20.04

Fedora 36 Clang (ARM)
	Kernel: Container Host Kernel
	Compiler: clang 14.0.5

Fedora 36 (ARM)
	Kernel: Container Host Kernel
	Compiler: gcc 12.2.1

RHEL 7
	Kernel: 4.18.0-240.10.1.el8_3.x86_64
	Compiler: gcc 4.8.5 20150623 (Red Hat 4.8.5-44)

Debian 11 (Buster) (ARM)
	Kernel: Container Host Kernel
	Compiler: gcc 10.2.1

RHEL8
	Kernel: 4.18.0-240.10.1.el8_3.x86_64
	Compiler: gcc 8.3.1 20191121 (Red Hat 8.3.1-5)

Ubuntu 20.04 (ARM)
	Kernel: Container Host Kernel
	Compiler: gcc 9.4.0

To view detailed results, visit:
https://lab.dpdk.org/results/dashboard/tarballs/24681/

UNH-IOL DPDK Community Lab

To manage your email subscriptions, visit: 
https://lab.dpdk.org/results/dashboard/preferences/subscriptions/


More information about the test-report mailing list