|SUCCESS| pw127217 [PATCH] [v1,1/1] eal: warn user when lcore cpuset
dpdklab at iol.unh.edu
dpdklab at iol.unh.edu
Tue May 23 17:34:27 CEST 2023
Test-Label: iol-x86_64-compile-testing
Test-Status: SUCCESS
http://dpdk.org/patch/127217
_Testing PASS_
Submitter: Burakov, Anatoly <anatoly.burakov at intel.com>
Date: Tuesday, May 23 2023 13:06:16
DPDK git baseline: Repo:dpdk
Branch: master
CommitID:a399d7b5a994e335c446d4b15d7622d71dd8848c
127217 --> testing pass
Test environment and result as below:
+------------------+--------------------+
| Environment | dpdk_meson_compile |
+==================+====================+
| FreeBSD 13 | PASS |
+------------------+--------------------+
| RHEL8 | PASS |
+------------------+--------------------+
| Debian Buster | PASS |
+------------------+--------------------+
| CentOS Stream 9 | PASS |
+------------------+--------------------+
| Ubuntu 22.04 | PASS |
+------------------+--------------------+
| openSUSE Leap 15 | PASS |
+------------------+--------------------+
| RHEL 7 | PASS |
+------------------+--------------------+
| Alpine | PASS |
+------------------+--------------------+
| CentOS Stream 8 | PASS |
+------------------+--------------------+
| Ubuntu 20.04 | PASS |
+------------------+--------------------+
| Debian Bullseye | PASS |
+------------------+--------------------+
FreeBSD 13
Kernel: 13.0
Compiler: clang 11.0.1
RHEL8
Kernel: 4.18.0-240.10.1.el8_3.x86_64
Compiler: gcc 8.3.1 20191121 (Red Hat 8.3.1-5)
Debian Buster
Kernel: 5.4.0-122-generic
Compiler: gcc 8.3.0-6
CentOS Stream 9
Kernel: 4.18.0-240.10.1.el8_3.x86_64
Compiler: gcc 11.3.1 20220421
Ubuntu 22.04
Kernel: Container Host Kernel
Compiler: gcc 12.2.1-2
openSUSE Leap 15
Kernel: 4.18.0-240.10.1.el8_3.x86_64
Compiler: gcc 7.5.0
RHEL 7
Kernel: 4.18.0-240.10.1.el8_3.x86_64
Compiler: gcc 4.8.5 20150623 (Red Hat 4.8.5-44)
Alpine
Kernel: 5.4.0-73-generic
Compiler: gcc (Alpine 10.3.1_git20210424) 10.3.1 20210424
CentOS Stream 8
Kernel: 4.18.0-240.10.1.el8_3.x86_64
Compiler: gcc 8.4.1 20200928
Ubuntu 20.04
Kernel: 4.18.0-240.10.1.el8_3.x86_64
Compiler: gcc 9.3.0-17ubuntu1~20.04
Debian Bullseye
Kernel: 5.4.0-122-generic
Compiler: gcc 10.2.1-6
To view detailed results, visit:
https://lab.dpdk.org/results/dashboard/patchsets/26350/
UNH-IOL DPDK Community Lab
To manage your email subscriptions, visit:
https://lab.dpdk.org/results/dashboard/preferences/subscriptions/
More information about the test-report
mailing list