|SUCCESS| pw127197 [PATCH] [v2] crypto/qat: support to enable insecu

dpdklab at iol.unh.edu dpdklab at iol.unh.edu
Tue May 23 18:59:06 CEST 2023


Test-Label: iol-unit-testing
Test-Status: SUCCESS
http://dpdk.org/patch/127197

_Testing PASS_

Submitter: Vikash Poddar <vikash.chandrax.poddar at intel.com>
Date: Tuesday, May 23 2023 09:14:33 
DPDK git baseline: Repo:dpdk
  Branch: master
  CommitID:a399d7b5a994e335c446d4b15d7622d71dd8848c

127197 --> testing pass

Test environment and result as below:

+--------------------------+----------------+
|       Environment        | dpdk_unit_test |
+==========================+================+
| CentOS Stream 9 (ARM)    | PASS           |
+--------------------------+----------------+
| Fedora 36 (ARM)          | PASS           |
+--------------------------+----------------+
| Debian 11 (Buster) (ARM) | PASS           |
+--------------------------+----------------+
| Ubuntu 20.04 (ARM)       | PASS           |
+--------------------------+----------------+
| Fedora 36 Clang (ARM)    | PASS           |
+--------------------------+----------------+
| CentOS Stream 8          | PASS           |
+--------------------------+----------------+
| CentOS Stream 9          | PASS           |
+--------------------------+----------------+
| Ubuntu 22.04             | PASS           |
+--------------------------+----------------+
| openSUSE Leap 15         | PASS           |
+--------------------------+----------------+
| Ubuntu 20.04             | PASS           |
+--------------------------+----------------+


CentOS Stream 9 (ARM)
	Kernel: Container Host Kernel
	Compiler: gcc 11.3.1

Fedora 36 (ARM)
	Kernel: Container Host Kernel
	Compiler: gcc 12.2.1

Debian 11 (Buster) (ARM)
	Kernel: Container Host Kernel
	Compiler: gcc 10.2.1

Ubuntu 20.04 (ARM)
	Kernel: Container Host Kernel
	Compiler: gcc 9.4.0

Fedora 36 Clang (ARM)
	Kernel: Container Host Kernel
	Compiler: clang 14.0.5

CentOS Stream 8
	Kernel: 4.18.0-240.10.1.el8_3.x86_64
	Compiler: gcc 8.4.1 20200928

CentOS Stream 9
	Kernel: 4.18.0-240.10.1.el8_3.x86_64
	Compiler: gcc 11.3.1 20220421

Ubuntu 22.04
	Kernel: Container Host Kernel
	Compiler: gcc 11.3.1-2

openSUSE Leap 15
	Kernel: 4.18.0-240.10.1.el8_3.x86_64
	Compiler: gcc 7.5.0

Ubuntu 20.04
	Kernel: 4.18.0-240.10.1.el8_3.x86_64
	Compiler: gcc 9.3.0-17ubuntu1~20.04

To view detailed results, visit:
https://lab.dpdk.org/results/dashboard/patchsets/26345/

UNH-IOL DPDK Community Lab

To manage your email subscriptions, visit: 
https://lab.dpdk.org/results/dashboard/preferences/subscriptions/


More information about the test-report mailing list