|SUCCESS| pw127326 [PATCH] [v2] test/crypto: fix IPsec AES CCM test

dpdklab at iol.unh.edu dpdklab at iol.unh.edu
Wed May 24 15:49:44 CEST 2023


Test-Label: iol-abi-testing
Test-Status: SUCCESS
http://dpdk.org/patch/127326

_Testing PASS_

Submitter: Tejasree Kondoj <ktejasree at marvell.com>
Date: Wednesday, May 24 2023 12:51:56 
DPDK git baseline: Repo:dpdk
  Branch: master
  CommitID:c41a103c961ded5a0966652f4daf0a661a947352

127326 --> testing pass

Test environment and result as below:

+------------------+----------+
|   Environment    | abi_test |
+==================+==========+
| CentOS Stream 9  | PASS     |
+------------------+----------+
| Debian Buster    | PASS     |
+------------------+----------+
| openSUSE Leap 15 | PASS     |
+------------------+----------+


CentOS Stream 9
	Kernel: 4.18.0-240.10.1.el8_3.x86_64
	Compiler: gcc 11.3.1 20220421

Debian Buster
	Kernel: 5.4.0-122-generic
	Compiler: gcc 8.3.0-6

openSUSE Leap 15
	Kernel: 4.18.0-240.10.1.el8_3.x86_64
	Compiler: gcc 7.5.0

To view detailed results, visit:
https://lab.dpdk.org/results/dashboard/patchsets/26368/

UNH-IOL DPDK Community Lab

To manage your email subscriptions, visit: 
https://lab.dpdk.org/results/dashboard/preferences/subscriptions/


More information about the test-report mailing list