|SUCCESS| pw127330 [PATCH] [v2] usertools/telemetry: fix unused para

dpdklab at iol.unh.edu dpdklab at iol.unh.edu
Thu May 25 00:08:49 CEST 2023


Test-Label: iol-aarch64-unit-testing
Test-Status: SUCCESS
http://dpdk.org/patch/127330

_Testing PASS_

Submitter: Samina Arshad <samina.arshad at intel.com>
Date: Tuesday, May 23 2023 14:38:55 
DPDK git baseline: Repo:dpdk
  Branch: master
  CommitID:c41a103c961ded5a0966652f4daf0a661a947352

127330 --> testing pass

Test environment and result as below:

+-----------------------------------+------------------------------+---------------------------+--------------+----------------+
|            Environment            | cryptodev_sw_snow3g_autotest | cryptodev_sw_zuc_autotest | lpm_autotest | dpdk_unit_test |
+===================================+==============================+===========================+==============+================+
| Debian 11                         | PASS                         | PASS                      | SKIPPED      | SKIPPED        |
+-----------------------------------+------------------------------+---------------------------+--------------+----------------+
| Ubuntu 20.04 ARM SVE              | SKIPPED                      | SKIPPED                   | PASS         | SKIPPED        |
+-----------------------------------+------------------------------+---------------------------+--------------+----------------+
| Arm Ampere Altra - Ubuntu 20.04.4 | SKIPPED                      | SKIPPED                   | SKIPPED      | PASS           |
+-----------------------------------+------------------------------+---------------------------+--------------+----------------+


Debian 11
	Kernel: Container Host Kernel
	Compiler: gcc 10.2.1

Ubuntu 20.04 ARM SVE
	Kernel: 5.4.0-80-generic
	Compiler: gcc 10.3.0 (Ubuntu 10.3.0-1ubuntu1~20.04)

Arm Ampere Altra - Ubuntu 20.04.4
	Kernel: 5.4.0-148-generic aarch64
	Compiler: gcc 9.4

To view detailed results, visit:
https://lab.dpdk.org/results/dashboard/patchsets/26369/

UNH-IOL DPDK Community Lab

To manage your email subscriptions, visit: 
https://lab.dpdk.org/results/dashboard/preferences/subscriptions/


More information about the test-report mailing list