|SUCCESS| pw127355 [PATCH] [v4] lib: set/get max memzone segments

dpdklab at iol.unh.edu dpdklab at iol.unh.edu
Thu May 25 01:50:05 CEST 2023


Test-Label: iol-aarch64-unit-testing
Test-Status: SUCCESS
http://dpdk.org/patch/127355

_Testing PASS_

Submitter: Ophir Munk <ophirmu at nvidia.com>
Date: Wednesday, May 24 2023 22:25:50 
DPDK git baseline: Repo:dpdk
  Branch: master
  CommitID:c41a103c961ded5a0966652f4daf0a661a947352

127355 --> testing pass

Test environment and result as below:

+-----------------------------------+--------------+---------------------------+----------------+------------------------------+
|            Environment            | lpm_autotest | cryptodev_sw_zuc_autotest | dpdk_unit_test | cryptodev_sw_snow3g_autotest |
+===================================+==============+===========================+================+==============================+
| Ubuntu 20.04 ARM SVE              | PASS         | SKIPPED                   | SKIPPED        | SKIPPED                      |
+-----------------------------------+--------------+---------------------------+----------------+------------------------------+
| Debian 11                         | SKIPPED      | PASS                      | SKIPPED        | PASS                         |
+-----------------------------------+--------------+---------------------------+----------------+------------------------------+
| Arm Ampere Altra - Ubuntu 20.04.4 | SKIPPED      | SKIPPED                   | PASS           | SKIPPED                      |
+-----------------------------------+--------------+---------------------------+----------------+------------------------------+


Ubuntu 20.04 ARM SVE
	Kernel: 5.4.0-80-generic
	Compiler: gcc 10.3.0 (Ubuntu 10.3.0-1ubuntu1~20.04)

Debian 11
	Kernel: Container Host Kernel
	Compiler: gcc 10.2.1

Arm Ampere Altra - Ubuntu 20.04.4
	Kernel: 5.4.0-148-generic aarch64
	Compiler: gcc 9.4

To view detailed results, visit:
https://lab.dpdk.org/results/dashboard/patchsets/26372/

UNH-IOL DPDK Community Lab

To manage your email subscriptions, visit: 
https://lab.dpdk.org/results/dashboard/preferences/subscriptions/


More information about the test-report mailing list