|SUCCESS| [GIT MASTER] 2d9e10932d535ea553081b489a25f6fce7ec7996

dpdklab at iol.unh.edu dpdklab at iol.unh.edu
Thu May 25 04:01:08 CEST 2023


_Testing PASS_

Branch: dpdk

2d9e10932d535ea553081b489a25f6fce7ec7996 --> testing pass

Test environment and result as below:

+-----------------------------------+----------------+---------------------------+------------------------------+--------------+
|            Environment            | dpdk_unit_test | cryptodev_sw_zuc_autotest | cryptodev_sw_snow3g_autotest | lpm_autotest |
+===================================+================+===========================+==============================+==============+
| Arm Ampere Altra - Ubuntu 20.04.4 | PASS           | SKIPPED                   | SKIPPED                      | SKIPPED      |
+-----------------------------------+----------------+---------------------------+------------------------------+--------------+
| Debian 11                         | SKIPPED        | PASS                      | PASS                         | SKIPPED      |
+-----------------------------------+----------------+---------------------------+------------------------------+--------------+
| Ubuntu 20.04 ARM SVE              | SKIPPED        | SKIPPED                   | SKIPPED                      | PASS         |
+-----------------------------------+----------------+---------------------------+------------------------------+--------------+


Arm Ampere Altra - Ubuntu 20.04.4
	Kernel: 5.4.0-148-generic aarch64
	Compiler: gcc 9.4

Debian 11
	Kernel: Container Host Kernel
	Compiler: gcc 10.2.1

Ubuntu 20.04 ARM SVE
	Kernel: 5.4.0-80-generic
	Compiler: gcc 10.3.0 (Ubuntu 10.3.0-1ubuntu1~20.04)

To view detailed results, visit:
https://lab.dpdk.org/results/dashboard/tarballs/24708/

UNH-IOL DPDK Community Lab

To manage your email subscriptions, visit: 
https://lab.dpdk.org/results/dashboard/preferences/subscriptions/


More information about the test-report mailing list