|SUCCESS| pw127356 [PATCH] net/iavf: add VF reset check

dpdklab at iol.unh.edu dpdklab at iol.unh.edu
Thu May 25 05:41:30 CEST 2023


Test-Label: iol-aarch64-unit-testing
Test-Status: SUCCESS
http://dpdk.org/patch/127356

_Testing PASS_

Submitter: Zhichao Zeng <zhichaox.zeng at intel.com>
Date: Thursday, May 25 2023 02:17:37 
DPDK git baseline: Repo:dpdk
  Branch: master
  CommitID:2d9e10932d535ea553081b489a25f6fce7ec7996

127356 --> testing pass

Test environment and result as below:

+-----------------------------------+------------------------------+----------------+--------------+---------------------------+
|            Environment            | cryptodev_sw_snow3g_autotest | dpdk_unit_test | lpm_autotest | cryptodev_sw_zuc_autotest |
+===================================+==============================+================+==============+===========================+
| Debian 11                         | PASS                         | SKIPPED        | SKIPPED      | PASS                      |
+-----------------------------------+------------------------------+----------------+--------------+---------------------------+
| Arm Ampere Altra - Ubuntu 20.04.4 | SKIPPED                      | PASS           | SKIPPED      | SKIPPED                   |
+-----------------------------------+------------------------------+----------------+--------------+---------------------------+
| Ubuntu 20.04 ARM SVE              | SKIPPED                      | SKIPPED        | PASS         | SKIPPED                   |
+-----------------------------------+------------------------------+----------------+--------------+---------------------------+


Debian 11
	Kernel: Container Host Kernel
	Compiler: gcc 10.2.1

Arm Ampere Altra - Ubuntu 20.04.4
	Kernel: 5.4.0-148-generic aarch64
	Compiler: gcc 9.4

Ubuntu 20.04 ARM SVE
	Kernel: 5.4.0-80-generic
	Compiler: gcc 10.3.0 (Ubuntu 10.3.0-1ubuntu1~20.04)

To view detailed results, visit:
https://lab.dpdk.org/results/dashboard/patchsets/26373/

UNH-IOL DPDK Community Lab

To manage your email subscriptions, visit: 
https://lab.dpdk.org/results/dashboard/preferences/subscriptions/


More information about the test-report mailing list