|SUCCESS| pw127371-127373 [PATCH] [v3,3/3] net/mlx5/hws: add support

dpdklab at iol.unh.edu dpdklab at iol.unh.edu
Thu May 25 12:38:16 CEST 2023


Test-Label: iol-aarch64-unit-testing
Test-Status: SUCCESS
http://dpdk.org/patch/127373

_Testing PASS_

Submitter: Dong Zhou <dongzhou at nvidia.com>
Date: Thursday, May 25 2023 07:40:41 
DPDK git baseline: Repo:dpdk
  Branch: master
  CommitID:2d9e10932d535ea553081b489a25f6fce7ec7996

127371-127373 --> testing pass

Test environment and result as below:

+-----------------------------------+----------------+------------------------------+---------------------------+--------------+
|            Environment            | dpdk_unit_test | cryptodev_sw_snow3g_autotest | cryptodev_sw_zuc_autotest | lpm_autotest |
+===================================+================+==============================+===========================+==============+
| Arm Ampere Altra - Ubuntu 20.04.4 | PASS           | SKIPPED                      | SKIPPED                   | SKIPPED      |
+-----------------------------------+----------------+------------------------------+---------------------------+--------------+
| Debian 11                         | SKIPPED        | PASS                         | PASS                      | SKIPPED      |
+-----------------------------------+----------------+------------------------------+---------------------------+--------------+
| Ubuntu 20.04 ARM SVE              | SKIPPED        | SKIPPED                      | SKIPPED                   | PASS         |
+-----------------------------------+----------------+------------------------------+---------------------------+--------------+


Arm Ampere Altra - Ubuntu 20.04.4
	Kernel: 5.4.0-148-generic aarch64
	Compiler: gcc 9.4

Debian 11
	Kernel: Container Host Kernel
	Compiler: gcc 10.2.1

Ubuntu 20.04 ARM SVE
	Kernel: 5.4.0-80-generic
	Compiler: gcc 10.3.0 (Ubuntu 10.3.0-1ubuntu1~20.04)

To view detailed results, visit:
https://lab.dpdk.org/results/dashboard/patchsets/26379/

UNH-IOL DPDK Community Lab

To manage your email subscriptions, visit: 
https://lab.dpdk.org/results/dashboard/preferences/subscriptions/


More information about the test-report mailing list