|SUCCESS| [GIT MASTER] 4f59fbae91a2f10ce2ff5617ee693c5f3066e235

dpdklab at iol.unh.edu dpdklab at iol.unh.edu
Thu May 25 18:16:03 CEST 2023


_Testing PASS_

Branch: dpdk-next-crypto

4f59fbae91a2f10ce2ff5617ee693c5f3066e235 --> testing pass

Test environment and result as below:

+----------------------------------------------+------------------------------+---------------------------+--------------+----------------+
|                 Environment                  | cryptodev_sw_snow3g_autotest | cryptodev_sw_zuc_autotest | lpm_autotest | dpdk_unit_test |
+==============================================+==============================+===========================+==============+================+
| Debian 11                                    | PASS                         | PASS                      | SKIPPED      | SKIPPED        |
+----------------------------------------------+------------------------------+---------------------------+--------------+----------------+
| Ubuntu 20.04 ARM SVE                         | SKIPPED                      | SKIPPED                   | PASS         | SKIPPED        |
+----------------------------------------------+------------------------------+---------------------------+--------------+----------------+
| 32 bit ARM test - Arm Altra - Ubuntu 20.04.4 | SKIPPED                      | SKIPPED                   | SKIPPED      | PASS           |
+----------------------------------------------+------------------------------+---------------------------+--------------+----------------+


Debian 11
	Kernel: Container Host Kernel
	Compiler: gcc 10.2.1

Ubuntu 20.04 ARM SVE
	Kernel: 5.4.0-80-generic
	Compiler: gcc 10.3.0 (Ubuntu 10.3.0-1ubuntu1~20.04)

32 bit ARM test - Arm Altra - Ubuntu 20.04.4
	Kernel: 5.4.0-148-generic aarch64
	Compiler: gcc 9.4

To view detailed results, visit:
https://lab.dpdk.org/results/dashboard/tarballs/24719/

UNH-IOL DPDK Community Lab

To manage your email subscriptions, visit: 
https://lab.dpdk.org/results/dashboard/preferences/subscriptions/


More information about the test-report mailing list