|SUCCESS| pw127498 [PATCH] [v16] app/procinfo: display eventdev xsta

dpdklab at iol.unh.edu dpdklab at iol.unh.edu
Thu May 25 20:03:31 CEST 2023


Test-Label: iol-aarch64-unit-testing
Test-Status: SUCCESS
http://dpdk.org/patch/127498

_Testing PASS_

Submitter: Sevincer, Abdullah <abdullah.sevincer at intel.com>
Date: Thursday, May 25 2023 16:41:27 
DPDK git baseline: Repo:dpdk
  Branch: master
  CommitID:2d9e10932d535ea553081b489a25f6fce7ec7996

127498 --> testing pass

Test environment and result as below:

+----------------------------------------------+---------------------------+------------------------------+----------------+--------------+
|                 Environment                  | cryptodev_sw_zuc_autotest | cryptodev_sw_snow3g_autotest | dpdk_unit_test | lpm_autotest |
+==============================================+===========================+==============================+================+==============+
| Debian 11                                    | PASS                      | PASS                         | SKIPPED        | SKIPPED      |
+----------------------------------------------+---------------------------+------------------------------+----------------+--------------+
| 32 bit ARM test - Arm Altra - Ubuntu 20.04.4 | SKIPPED                   | SKIPPED                      | PASS           | SKIPPED      |
+----------------------------------------------+---------------------------+------------------------------+----------------+--------------+
| Ubuntu 20.04 ARM SVE                         | SKIPPED                   | SKIPPED                      | SKIPPED        | PASS         |
+----------------------------------------------+---------------------------+------------------------------+----------------+--------------+


Debian 11
	Kernel: Container Host Kernel
	Compiler: gcc 10.2.1

32 bit ARM test - Arm Altra - Ubuntu 20.04.4
	Kernel: 5.4.0-148-generic aarch64
	Compiler: gcc 9.4

Ubuntu 20.04 ARM SVE
	Kernel: 5.4.0-80-generic
	Compiler: gcc 10.3.0 (Ubuntu 10.3.0-1ubuntu1~20.04)

To view detailed results, visit:
https://lab.dpdk.org/results/dashboard/patchsets/26395/

UNH-IOL DPDK Community Lab

To manage your email subscriptions, visit: 
https://lab.dpdk.org/results/dashboard/preferences/subscriptions/


More information about the test-report mailing list