|SUCCESS| pw127436 [PATCH] [v2] common/qat: fix qat_dev_cmd_param co

dpdklab at iol.unh.edu dpdklab at iol.unh.edu
Fri May 26 00:21:13 CEST 2023


Test-Label: iol-abi-testing
Test-Status: SUCCESS
http://dpdk.org/patch/127436

_Testing PASS_

Submitter: Vikash Poddar <vikash.chandrax.poddar at intel.com>
Date: Thursday, May 25 2023 15:38:49 
DPDK git baseline: Repo:dpdk
  Branch: master
  CommitID:c9df59bcc9bec67783de98486879594e52bdc418

127436 --> testing pass

Test environment and result as below:

+------------------+----------+
|   Environment    | abi_test |
+==================+==========+
| Ubuntu 22.04     | PASS     |
+------------------+----------+
| CentOS Stream 9  | PASS     |
+------------------+----------+
| openSUSE Leap 15 | PASS     |
+------------------+----------+


Ubuntu 22.04
	Kernel: Container Host Kernel
	Compiler: gcc 12.2.1-2

CentOS Stream 9
	Kernel: 4.18.0-240.10.1.el8_3.x86_64
	Compiler: gcc 11.3.1 20220421

openSUSE Leap 15
	Kernel: 4.18.0-240.10.1.el8_3.x86_64
	Compiler: gcc 7.5.0

To view detailed results, visit:
https://lab.dpdk.org/results/dashboard/patchsets/26389/

UNH-IOL DPDK Community Lab

To manage your email subscriptions, visit: 
https://lab.dpdk.org/results/dashboard/preferences/subscriptions/


More information about the test-report mailing list