|SUCCESS| pw127652 [PATCH] [v4,1/2] cryptodev: support SM3_HMAC,SM4_

dpdklab at iol.unh.edu dpdklab at iol.unh.edu
Mon May 29 10:35:21 CEST 2023


Test-Label: iol-aarch64-unit-testing
Test-Status: SUCCESS
http://dpdk.org/patch/127652

_Testing PASS_

Submitter: Sunyang Wu <sunyang.wu at jaguarmicro.com>
Date: Monday, May 29 2023 03:03:54 
DPDK git baseline: Repo:dpdk
  Branch: master
  CommitID:c9df59bcc9bec67783de98486879594e52bdc418

127652 --> testing pass

Test environment and result as below:

+-----------------------------+------------------------------+----------------+--------------+---------------------------+
|         Environment         | cryptodev_sw_snow3g_autotest | dpdk_unit_test | lpm_autotest | cryptodev_sw_zuc_autotest |
+=============================+==============================+================+==============+===========================+
| Debian 11                   | PASS                         | SKIPPED        | SKIPPED      | PASS                      |
+-----------------------------+------------------------------+----------------+--------------+---------------------------+
| 32 bit ARM - Ubuntu 20.04.4 | SKIPPED                      | PASS           | SKIPPED      | SKIPPED                   |
+-----------------------------+------------------------------+----------------+--------------+---------------------------+
| Ubuntu 20.04 ARM SVE        | SKIPPED                      | SKIPPED        | PASS         | SKIPPED                   |
+-----------------------------+------------------------------+----------------+--------------+---------------------------+


Debian 11
	Kernel: Container Host Kernel
	Compiler: gcc 10.2.1

32 bit ARM - Ubuntu 20.04.4
	Kernel: 5.4.0-148-generic aarch64
	Compiler: gcc 9.4

Ubuntu 20.04 ARM SVE
	Kernel: 5.4.0-80-generic
	Compiler: gcc 10.3.0 (Ubuntu 10.3.0-1ubuntu1~20.04)

To view detailed results, visit:
https://lab.dpdk.org/results/dashboard/patchsets/26430/

UNH-IOL DPDK Community Lab

To manage your email subscriptions, visit: 
https://lab.dpdk.org/results/dashboard/preferences/subscriptions/


More information about the test-report mailing list