|SUCCESS| pw127725 [PATCH] [v1] bus/pci: get PCI address from rte_de

dpdklab at iol.unh.edu dpdklab at iol.unh.edu
Tue May 30 19:46:02 CEST 2023


Test-Label: iol-abi-testing
Test-Status: SUCCESS
http://dpdk.org/patch/127725

_Testing PASS_

Submitter: Elena Agostini <eagostini at nvidia.com>
Date: Tuesday, May 30 2023 11:42:02 
DPDK git baseline: Repo:dpdk
  Branch: master
  CommitID:c9df59bcc9bec67783de98486879594e52bdc418

127725 --> testing pass

Test environment and result as below:

+--------------+----------+
| Environment  | abi_test |
+==============+==========+
| Ubuntu 22.04 | PASS     |
+--------------+----------+
| Fedora 38    | PASS     |
+--------------+----------+
| RHEL 7       | PASS     |
+--------------+----------+


Ubuntu 22.04
	Kernel: 4.18.0-240.10.1.el8_3.x86_64
	Compiler: gcc 11.3.0

Fedora 38
	Kernel: Depends on container host
	Compiler: gcc 13.1.1

RHEL 7
	Kernel: 4.18.0-240.10.1.el8_3.x86_64
	Compiler: gcc 4.8.5 20150623 (Red Hat 4.8.5-44)

To view detailed results, visit:
https://lab.dpdk.org/results/dashboard/patchsets/26451/

UNH-IOL DPDK Community Lab

To manage your email subscriptions, visit: 
https://lab.dpdk.org/results/dashboard/preferences/subscriptions/


More information about the test-report mailing list