|SUCCESS| pw132265 [PATCH] fib: fix adding default route overwriting
    dpdklab at iol.unh.edu 
    dpdklab at iol.unh.edu
       
    Mon Oct  2 19:16:19 CEST 2023
    
    
  
Test-Label: iol-unit-arm64-testing
Test-Status: SUCCESS
http://dpdk.org/patch/132265
_Testing PASS_
Submitter: Vladimir Medvedkin <vladimir.medvedkin at intel.com>
Date: Monday, October 02 2023 15:11:48 
DPDK git baseline: Repo:dpdk
  Branch: master
  CommitID:6e999364a6afb9189029154b1ac55b4ad5fb9b3f
132265 --> testing pass
Test environment and result as below:
+----------------------+---------------------------+------------------------------+--------------+
|     Environment      | cryptodev_sw_zuc_autotest | cryptodev_sw_snow3g_autotest | lpm_autotest |
+======================+===========================+==============================+==============+
| Debian 11 (arm)      | PASS                      | PASS                         | SKIPPED      |
+----------------------+---------------------------+------------------------------+--------------+
| Ubuntu 20.04 ARM SVE | SKIPPED                   | SKIPPED                      | PASS         |
+----------------------+---------------------------+------------------------------+--------------+
Debian 11 (arm)
	Kernel: Container Host Kernel
	Compiler: gcc 10.2.1
Ubuntu 20.04 ARM SVE
	Kernel: 5.4.0-80-generic
	Compiler: gcc 10.3.0 (Ubuntu 10.3.0-1ubuntu1~20.04)
To view detailed results, visit:
https://lab.dpdk.org/results/dashboard/patchsets/27805/
UNH-IOL DPDK Community Lab
To manage your email subscriptions, visit: 
https://lab.dpdk.org/results/dashboard/preferences/subscriptions/
    
    
More information about the test-report
mailing list