|SUCCESS| [GIT MASTER] 5f99480bc32b5f643fb357f8bed022b9bd23ecad
dpdklab at iol.unh.edu
dpdklab at iol.unh.edu
Tue Oct 3 03:16:43 CEST 2023
_Testing PASS_
Branch: dpdk
5f99480bc32b5f643fb357f8bed022b9bd23ecad --> testing pass
Test environment and result as below:
+---------------------+----------------+
| Environment | dpdk_unit_test |
+=====================+================+
| Windows Server 2019 | PASS |
+---------------------+----------------+
| Arch Linux | PASS |
+---------------------+----------------+
| Fedora 37 | PASS |
+---------------------+----------------+
Windows Server 2019
Kernel: 10.0
Compiler: clang 14.0 and gcc 8.1.0 (MinGW)
Arch Linux
Kernel: 5.4.0-73-generic
Compiler: gcc 11.1.0
Fedora 37
Kernel: Depends on container host system
Compiler: gcc 12.3.1
To view detailed results, visit:
https://lab.dpdk.org/results/dashboard/tarballs/26332/
UNH-IOL DPDK Community Lab
To manage your email subscriptions, visit:
https://lab.dpdk.org/results/dashboard/preferences/subscriptions/
More information about the test-report
mailing list