|SUCCESS| [GIT MASTER] 4e50ad4469f7c037e32de5aa3535d1cd25de0741
    dpdklab at iol.unh.edu 
    dpdklab at iol.unh.edu
       
    Tue Oct  3 10:59:20 CEST 2023
    
    
  
_Testing PASS_
Branch: tags/v21.11
4e50ad4469f7c037e32de5aa3535d1cd25de0741 --> testing pass
Test environment and result as below:
+----------------------+--------------------+
|     Environment      | dpdk_meson_compile |
+======================+====================+
| Ubuntu 20.04 ARM SVE | PASS               |
+----------------------+--------------------+
| Fedora 37 (ARM)      | PASS               |
+----------------------+--------------------+
| Ubuntu 20.04 (ARM)   | PASS               |
+----------------------+--------------------+
| Fedora 38 (ARM)      | PASS               |
+----------------------+--------------------+
Ubuntu 20.04 ARM SVE
	Kernel: 5.4.0-80-generic
	Compiler: gcc 10.3.0 (Ubuntu 10.3.0-1ubuntu1~20.04)
Fedora 37 (ARM)
	Kernel: Depends on container host
	Compiler: gcc 12.3.1
Ubuntu 20.04 (ARM)
	Kernel: Container Host Kernel
	Compiler: gcc 9.4.0
Fedora 38 (ARM)
	Kernel: Depends on container host
	Compiler: gcc 13.1.1
To view detailed results, visit:
https://lab.dpdk.org/results/dashboard/tarballs/26334/
UNH-IOL DPDK Community Lab
To manage your email subscriptions, visit: 
https://lab.dpdk.org/results/dashboard/preferences/subscriptions/
    
    
More information about the test-report
mailing list