|SUCCESS| pw132276-132280 [PATCH] [v2,5/5] cryptodev: add details of
    dpdklab at iol.unh.edu 
    dpdklab at iol.unh.edu
       
    Tue Oct  3 15:13:18 CEST 2023
    
    
  
Test-Label: iol-compile-amd64-testing
Test-Status: SUCCESS
http://dpdk.org/patch/132280
_Testing PASS_
Submitter: Anoob Joseph <anoobj at marvell.com>
Date: Tuesday, October 03 2023 10:48:54 
DPDK git baseline: Repo:dpdk-next-crypto
  Branch: master
  CommitID:567703b176f24e1734ae3cb4d4c90cc5dd02de4e
132276-132280 --> testing pass
Test environment and result as below:
+---------------------+--------------------+----------------------+
|     Environment     | dpdk_meson_compile | dpdk_mingw64_compile |
+=====================+====================+======================+
| FreeBSD 13          | PASS               | SKIPPED              |
+---------------------+--------------------+----------------------+
| Windows Server 2019 | PASS               | PASS                 |
+---------------------+--------------------+----------------------+
| CentOS Stream 9     | PASS               | SKIPPED              |
+---------------------+--------------------+----------------------+
FreeBSD 13
	Kernel: 13.0
	Compiler: clang 11.0.1
Windows Server 2019
	Kernel: 10.0
	Compiler: clang 14.0 and gcc 8.1.0 (MinGW)
CentOS Stream 9
	Kernel: 4.18.0-240.10.1.el8_3.x86_64
	Compiler: gcc 11.3.1 20220421
To view detailed results, visit:
https://lab.dpdk.org/results/dashboard/patchsets/27810/
UNH-IOL DPDK Community Lab
To manage your email subscriptions, visit: 
https://lab.dpdk.org/results/dashboard/preferences/subscriptions/
    
    
More information about the test-report
mailing list