|SUCCESS| pw132285 [PATCH] eventdev: drop custom OS defines
    dpdklab at iol.unh.edu 
    dpdklab at iol.unh.edu
       
    Tue Oct  3 21:12:56 CEST 2023
    
    
  
Test-Label: iol-unit-arm64-testing
Test-Status: SUCCESS
http://dpdk.org/patch/132285
_Testing PASS_
Submitter: Bruce Richardson <bruce.richardson at intel.com>
Date: Tuesday, October 03 2023 17:01:15 
DPDK git baseline: Repo:dpdk-next-eventdev
  Branch: master
  CommitID:9b1122634e8affeb1a3d957f3a96e48ae17956bc
132285 --> testing pass
Test environment and result as below:
+----------------------+---------------------------+------------------------------+--------------+
|     Environment      | cryptodev_sw_zuc_autotest | cryptodev_sw_snow3g_autotest | lpm_autotest |
+======================+===========================+==============================+==============+
| Debian 11 (arm)      | PASS                      | PASS                         | SKIPPED      |
+----------------------+---------------------------+------------------------------+--------------+
| Ubuntu 20.04 ARM SVE | SKIPPED                   | SKIPPED                      | PASS         |
+----------------------+---------------------------+------------------------------+--------------+
Debian 11 (arm)
	Kernel: Container Host Kernel
	Compiler: gcc 10.2.1
Ubuntu 20.04 ARM SVE
	Kernel: 5.4.0-80-generic
	Compiler: gcc 10.3.0 (Ubuntu 10.3.0-1ubuntu1~20.04)
To view detailed results, visit:
https://lab.dpdk.org/results/dashboard/patchsets/27815/
UNH-IOL DPDK Community Lab
To manage your email subscriptions, visit: 
https://lab.dpdk.org/results/dashboard/preferences/subscriptions/
    
    
More information about the test-report
mailing list