|SUCCESS| pw132286 [PATCH] common/cnxk: fix direct rte symbol usage

dpdklab at iol.unh.edu dpdklab at iol.unh.edu
Wed Oct 4 00:15:56 CEST 2023


Test-Label: iol-compile-amd64-testing
Test-Status: SUCCESS
http://dpdk.org/patch/132286

_Testing PASS_

Submitter: Jerin Jacob Kollanukkaran <jerinj at marvell.com>
Date: Tuesday, October 03 2023 18:39:56 
DPDK git baseline: Repo:dpdk-next-net-mrvl
  Branch: master
  CommitID:aa2ba6981f60d7f97d81869dd66b9bf5f3ad1a25

132286 --> testing pass

Test environment and result as below:

+---------------------+--------------------+----------------------+
|     Environment     | dpdk_meson_compile | dpdk_mingw64_compile |
+=====================+====================+======================+
| FreeBSD 13          | PASS               | SKIPPED              |
+---------------------+--------------------+----------------------+
| Windows Server 2019 | PASS               | PASS                 |
+---------------------+--------------------+----------------------+
| CentOS Stream 8     | PASS               | SKIPPED              |
+---------------------+--------------------+----------------------+


FreeBSD 13
	Kernel: 13.0
	Compiler: clang 11.0.1

Windows Server 2019
	Kernel: 10.0
	Compiler: clang 14.0 and gcc 8.1.0 (MinGW)

CentOS Stream 8
	Kernel: 4.18.0-240.10.1.el8_3.x86_64
	Compiler: gcc 8.4.1 20200928

To view detailed results, visit:
https://lab.dpdk.org/results/dashboard/patchsets/27816/

UNH-IOL DPDK Community Lab

To manage your email subscriptions, visit: 
https://lab.dpdk.org/results/dashboard/preferences/subscriptions/


More information about the test-report mailing list