|SUCCESS| [GIT MASTER] 687a5b12b14f02f0d3624f4b36b34dba8119a680
    dpdklab at iol.unh.edu 
    dpdklab at iol.unh.edu
       
    Wed Oct  4 03:54:51 CEST 2023
    
    
  
_Testing PASS_
Branch: dpdk
687a5b12b14f02f0d3624f4b36b34dba8119a680 --> testing pass
Test environment and result as below:
+---------------------+----------------+
|     Environment     | dpdk_unit_test |
+=====================+================+
| Windows Server 2019 | PASS           |
+---------------------+----------------+
| CentOS Stream 8     | PASS           |
+---------------------+----------------+
| Arch Linux          | PASS           |
+---------------------+----------------+
Windows Server 2019
	Kernel: 10.0
	Compiler: clang 14.0 and gcc 8.1.0 (MinGW)
CentOS Stream 8
	Kernel: 4.18.0-240.10.1.el8_3.x86_64
	Compiler: gcc 8.4.1 20200928
Arch Linux
	Kernel: 5.4.0-73-generic
	Compiler: gcc 11.1.0
To view detailed results, visit:
https://lab.dpdk.org/results/dashboard/tarballs/26342/
UNH-IOL DPDK Community Lab
To manage your email subscriptions, visit: 
https://lab.dpdk.org/results/dashboard/preferences/subscriptions/
    
    
More information about the test-report
mailing list