|SUCCESS| pw132291 [PATCH] raw/cnxk_bphy: support multi-process mode
    dpdklab at iol.unh.edu 
    dpdklab at iol.unh.edu
       
    Wed Oct  4 13:02:38 CEST 2023
    
    
  
Test-Label: iol-compile-amd64-testing
Test-Status: SUCCESS
http://dpdk.org/patch/132291
_Testing PASS_
Submitter: Tomasz Duszynski <tduszynski at marvell.com>
Date: Tuesday, October 03 2023 20:41:09 
DPDK git baseline: Repo:dpdk
  Branch: master
  CommitID:687a5b12b14f02f0d3624f4b36b34dba8119a680
132291 --> testing pass
Test environment and result as below:
+---------------------+--------------------+----------------------+
|     Environment     | dpdk_meson_compile | dpdk_mingw64_compile |
+=====================+====================+======================+
| FreeBSD 13          | PASS               | SKIPPED              |
+---------------------+--------------------+----------------------+
| Windows Server 2019 | PASS               | PASS                 |
+---------------------+--------------------+----------------------+
FreeBSD 13
	Kernel: 13.0
	Compiler: clang 11.0.1
Windows Server 2019
	Kernel: 10.0
	Compiler: clang 14.0 and gcc 8.1.0 (MinGW)
To view detailed results, visit:
https://lab.dpdk.org/results/dashboard/patchsets/27818/
UNH-IOL DPDK Community Lab
To manage your email subscriptions, visit: 
https://lab.dpdk.org/results/dashboard/preferences/subscriptions/
    
    
More information about the test-report
mailing list