|SUCCESS| pw132306 [PATCH] mem: allow using ASan in multi-process mo
    dpdklab at iol.unh.edu 
    dpdklab at iol.unh.edu
       
    Wed Oct  4 20:11:21 CEST 2023
    
    
  
Test-Label: iol-unit-arm64-testing
Test-Status: SUCCESS
http://dpdk.org/patch/132306
_Testing PASS_
Submitter: Artur Paszkiewicz <artur.paszkiewicz at intel.com>
Date: Wednesday, October 04 2023 14:23:08 
DPDK git baseline: Repo:dpdk
  Branch: master
  CommitID:687a5b12b14f02f0d3624f4b36b34dba8119a680
132306 --> testing pass
Test environment and result as below:
+----------------------+---------------------------+------------------------------+--------------+
|     Environment      | cryptodev_sw_zuc_autotest | cryptodev_sw_snow3g_autotest | lpm_autotest |
+======================+===========================+==============================+==============+
| Debian 11 (arm)      | PASS                      | PASS                         | SKIPPED      |
+----------------------+---------------------------+------------------------------+--------------+
| Ubuntu 20.04 ARM SVE | SKIPPED                   | SKIPPED                      | PASS         |
+----------------------+---------------------------+------------------------------+--------------+
Debian 11 (arm)
	Kernel: Container Host Kernel
	Compiler: gcc 10.2.1
Ubuntu 20.04 ARM SVE
	Kernel: 5.4.0-80-generic
	Compiler: gcc 10.3.0 (Ubuntu 10.3.0-1ubuntu1~20.04)
To view detailed results, visit:
https://lab.dpdk.org/results/dashboard/patchsets/27826/
UNH-IOL DPDK Community Lab
To manage your email subscriptions, visit: 
https://lab.dpdk.org/results/dashboard/preferences/subscriptions/
    
    
More information about the test-report
mailing list