|SUCCESS| [GIT MASTER] 7e338963a9c9e3c66f667985578ab2197e55bcc6
    dpdklab at iol.unh.edu 
    dpdklab at iol.unh.edu
       
    Wed Oct  4 22:22:37 CEST 2023
    
    
  
_Testing PASS_
Branch: dpdk-next-net
7e338963a9c9e3c66f667985578ab2197e55bcc6 --> testing pass
Test environment and result as below:
+---------------------+----------------------+--------------------+
|     Environment     | dpdk_mingw64_compile | dpdk_meson_compile |
+=====================+======================+====================+
| Windows Server 2019 | PASS                 | PASS               |
+---------------------+----------------------+--------------------+
| FreeBSD 13          | SKIPPED              | PASS               |
+---------------------+----------------------+--------------------+
| CentOS Stream 8     | SKIPPED              | PASS               |
+---------------------+----------------------+--------------------+
| Fedora 37           | SKIPPED              | PASS               |
+---------------------+----------------------+--------------------+
Windows Server 2019
	Kernel: 10.0
	Compiler: clang 14.0 and gcc 8.1.0 (MinGW)
FreeBSD 13
	Kernel: 13.0
	Compiler: clang 11.0.1
CentOS Stream 8
	Kernel: 4.18.0-240.10.1.el8_3.x86_64
	Compiler: gcc 8.4.1 20200928
Fedora 37
	Kernel: Depends on container host system
	Compiler: gcc 12.3.1
To view detailed results, visit:
https://lab.dpdk.org/results/dashboard/tarballs/26355/
UNH-IOL DPDK Community Lab
To manage your email subscriptions, visit: 
https://lab.dpdk.org/results/dashboard/preferences/subscriptions/
    
    
More information about the test-report
mailing list