|SUCCESS| pw132308 [PATCH] [1/2] app/testpmd: enable cli for program

dpdklab at iol.unh.edu dpdklab at iol.unh.edu
Thu Oct 5 05:02:34 CEST 2023


Test-Label: iol-compile-amd64-testing
Test-Status: SUCCESS
http://dpdk.org/patch/132308

_Testing PASS_

Submitter: Qi Zhang <qi.z.zhang at intel.com>
Date: Thursday, October 05 2023 10:02:46 
DPDK git baseline: Repo:dpdk-next-net
  Branch: master
  CommitID:40435075a790fac6e5d5ad7a967950f5e56e45c8

132308 --> testing pass

Test environment and result as below:

+---------------------+----------------------+--------------------+
|     Environment     | dpdk_mingw64_compile | dpdk_meson_compile |
+=====================+======================+====================+
| Windows Server 2019 | PASS                 | PASS               |
+---------------------+----------------------+--------------------+
| FreeBSD 13          | SKIPPED              | PASS               |
+---------------------+----------------------+--------------------+


Windows Server 2019
	Kernel: 10.0
	Compiler: clang 14.0 and gcc 8.1.0 (MinGW)

FreeBSD 13
	Kernel: 13.0
	Compiler: clang 11.0.1

To view detailed results, visit:
https://lab.dpdk.org/results/dashboard/patchsets/27828/

UNH-IOL DPDK Community Lab

To manage your email subscriptions, visit: 
https://lab.dpdk.org/results/dashboard/preferences/subscriptions/


More information about the test-report mailing list