|SUCCESS| pw132308 [PATCH] [1/2] app/testpmd: enable cli for program

dpdklab at iol.unh.edu dpdklab at iol.unh.edu
Thu Oct 5 05:55:13 CEST 2023


Test-Label: iol-unit-amd64-testing
Test-Status: SUCCESS
http://dpdk.org/patch/132308

_Testing PASS_

Submitter: Qi Zhang <qi.z.zhang at intel.com>
Date: Thursday, October 05 2023 10:02:46 
DPDK git baseline: Repo:dpdk-next-net
  Branch: master
  CommitID:40435075a790fac6e5d5ad7a967950f5e56e45c8

132308 --> testing pass

Test environment and result as below:

+---------------------+----------------+
|     Environment     | dpdk_unit_test |
+=====================+================+
| Windows Server 2019 | PASS           |
+---------------------+----------------+
| CentOS Stream 8     | PASS           |
+---------------------+----------------+
| CentOS Stream 9     | PASS           |
+---------------------+----------------+
| Debian Buster       | PASS           |
+---------------------+----------------+


Windows Server 2019
	Kernel: 10.0
	Compiler: clang 14.0 and gcc 8.1.0 (MinGW)

CentOS Stream 8
	Kernel: 4.18.0-240.10.1.el8_3.x86_64
	Compiler: gcc 8.4.1 20200928

CentOS Stream 9
	Kernel: 4.18.0-240.10.1.el8_3.x86_64
	Compiler: gcc 11.3.1 20220421

Debian Buster
	Kernel: 5.4.0-122-generic
	Compiler: gcc 8.3.0-6

To view detailed results, visit:
https://lab.dpdk.org/results/dashboard/patchsets/27828/

UNH-IOL DPDK Community Lab

To manage your email subscriptions, visit: 
https://lab.dpdk.org/results/dashboard/preferences/subscriptions/


More information about the test-report mailing list