|SUCCESS| pw132329 [PATCH] [v2] app/testpmd: enable cli for programm
    dpdklab at iol.unh.edu 
    dpdklab at iol.unh.edu
       
    Thu Oct  5 13:00:10 CEST 2023
    
    
  
Test-Label: iol-compile-arm64-testing
Test-Status: SUCCESS
http://dpdk.org/patch/132329
_Testing PASS_
Submitter: Qi Zhang <qi.z.zhang at intel.com>
Date: Thursday, October 05 2023 11:42:38 
DPDK git baseline: Repo:dpdk-next-net
  Branch: master
  CommitID:40435075a790fac6e5d5ad7a967950f5e56e45c8
132329 --> testing pass
Test environment and result as below:
+-----------------------+--------------------+
|      Environment      | dpdk_meson_compile |
+=======================+====================+
| Ubuntu 20.04 ARM SVE  | PASS               |
+-----------------------+--------------------+
| Fedora 37 (ARM)       | PASS               |
+-----------------------+--------------------+
| CentOS Stream 9 (ARM) | PASS               |
+-----------------------+--------------------+
Ubuntu 20.04 ARM SVE
	Kernel: 5.4.0-80-generic
	Compiler: gcc 10.3.0 (Ubuntu 10.3.0-1ubuntu1~20.04)
Fedora 37 (ARM)
	Kernel: Depends on container host
	Compiler: gcc 12.3.1
CentOS Stream 9 (ARM)
	Kernel: Container Host Kernel
	Compiler: gcc 11.3.1
To view detailed results, visit:
https://lab.dpdk.org/results/dashboard/patchsets/27831/
UNH-IOL DPDK Community Lab
To manage your email subscriptions, visit: 
https://lab.dpdk.org/results/dashboard/preferences/subscriptions/
    
    
More information about the test-report
mailing list