|SUCCESS| [GIT MASTER] c2da08a9ed54878f5582c10ec6a4df84cfbe50f2
    dpdklab at iol.unh.edu 
    dpdklab at iol.unh.edu
       
    Thu Oct  5 14:50:57 CEST 2023
    
    
  
_Testing PASS_
Branch: dpdk-next-eventdev
c2da08a9ed54878f5582c10ec6a4df84cfbe50f2 --> testing pass
Test environment and result as below:
+---------------------+--------------------+----------------------+
|     Environment     | dpdk_meson_compile | dpdk_mingw64_compile |
+=====================+====================+======================+
| Windows Server 2019 | PASS               | PASS                 |
+---------------------+--------------------+----------------------+
| FreeBSD 13          | PASS               | SKIPPED              |
+---------------------+--------------------+----------------------+
Windows Server 2019
	Kernel: 10.0
	Compiler: clang 14.0 and gcc 8.1.0 (MinGW)
FreeBSD 13
	Kernel: 13.0
	Compiler: clang 11.0.1
To view detailed results, visit:
https://lab.dpdk.org/results/dashboard/tarballs/26364/
UNH-IOL DPDK Community Lab
To manage your email subscriptions, visit: 
https://lab.dpdk.org/results/dashboard/preferences/subscriptions/
    
    
More information about the test-report
mailing list