|SUCCESS| [GIT MASTER] 40435075a790fac6e5d5ad7a967950f5e56e45c8
dpdklab at iol.unh.edu
dpdklab at iol.unh.edu
Thu Oct 5 20:26:28 CEST 2023
_Testing PASS_
Branch: dpdk-next-net
40435075a790fac6e5d5ad7a967950f5e56e45c8 --> testing pass
Test environment and result as below:
+---------------------+--------------------+
| Environment | dpdk_meson_compile |
+=====================+====================+
| FreeBSD 13 | PASS |
+---------------------+--------------------+
| CentOS Stream 9 | PASS |
+---------------------+--------------------+
| CentOS Stream 8 | PASS |
+---------------------+--------------------+
| Fedora 37 | PASS |
+---------------------+--------------------+
| Windows Server 2019 | PASS |
+---------------------+--------------------+
FreeBSD 13
Kernel: 13.0
Compiler: clang 11.0.1
CentOS Stream 9
Kernel: 4.18.0-240.10.1.el8_3.x86_64
Compiler: gcc 11.3.1 20220421
CentOS Stream 8
Kernel: 4.18.0-240.10.1.el8_3.x86_64
Compiler: gcc 8.4.1 20200928
Fedora 37
Kernel: Depends on container host system
Compiler: gcc 12.3.1
Windows Server 2019
Kernel: 10.0
Compiler: clang 14.0 and gcc 8.1.0 (MinGW)
To view detailed results, visit:
https://lab.dpdk.org/results/dashboard/tarballs/26365/
UNH-IOL DPDK Community Lab
To manage your email subscriptions, visit:
https://lab.dpdk.org/results/dashboard/preferences/subscriptions/
More information about the test-report
mailing list