|SUCCESS| pw132348-132349 [PATCH] [v2,2/2] raw/cnxk_gpio: add bunch
dpdklab at iol.unh.edu
dpdklab at iol.unh.edu
Fri Oct 6 02:35:25 CEST 2023
Test-Label: iol-unit-arm64-testing
Test-Status: SUCCESS
http://dpdk.org/patch/132349
_Testing PASS_
Submitter: Tomasz Duszynski <tduszynski at marvell.com>
Date: Thursday, October 05 2023 21:10:00
DPDK git baseline: Repo:dpdk
Branch: master
CommitID:3bcd5b3198d4a31176b1ac73fc7236a12186fffe
132348-132349 --> testing pass
Test environment and result as below:
+----------------------+------------------------------+---------------------------+--------------+
| Environment | cryptodev_sw_snow3g_autotest | cryptodev_sw_zuc_autotest | lpm_autotest |
+======================+==============================+===========================+==============+
| Debian 11 (arm) | PASS | PASS | SKIPPED |
+----------------------+------------------------------+---------------------------+--------------+
| Ubuntu 20.04 ARM SVE | SKIPPED | SKIPPED | PASS |
+----------------------+------------------------------+---------------------------+--------------+
Debian 11 (arm)
Kernel: Container Host Kernel
Compiler: gcc 10.2.1
Ubuntu 20.04 ARM SVE
Kernel: 5.4.0-80-generic
Compiler: gcc 10.3.0 (Ubuntu 10.3.0-1ubuntu1~20.04)
To view detailed results, visit:
https://lab.dpdk.org/results/dashboard/patchsets/27836/
UNH-IOL DPDK Community Lab
To manage your email subscriptions, visit:
https://lab.dpdk.org/results/dashboard/preferences/subscriptions/
More information about the test-report
mailing list