|SUCCESS| pw132359 [PATCH] doc/guides: refer to generic binding devi

dpdklab at iol.unh.edu dpdklab at iol.unh.edu
Sat Oct 7 01:02:08 CEST 2023


Test-Label: iol-compile-arm64-testing
Test-Status: SUCCESS
http://dpdk.org/patch/132359

_Testing PASS_

Submitter: David Marchand <david.marchand at redhat.com>
Date: Friday, October 06 2023 12:55:00 
DPDK git baseline: Repo:dpdk
  Branch: master
  CommitID:3bcd5b3198d4a31176b1ac73fc7236a12186fffe

132359 --> testing pass

Test environment and result as below:

+--------------------------------------+--------------------+
|             Environment              | dpdk_meson_compile |
+======================================+====================+
| Ubuntu 20.04 ARM SVE                 | PASS               |
+--------------------------------------+--------------------+
| Debian 11 (Buster) (ARM)             | PASS               |
+--------------------------------------+--------------------+
| Ubuntu 20.04 ARM Clang Cross Compile | PASS               |
+--------------------------------------+--------------------+


Ubuntu 20.04 ARM SVE
	Kernel: 5.4.0-80-generic
	Compiler: gcc 10.3.0 (Ubuntu 10.3.0-1ubuntu1~20.04)

Debian 11 (Buster) (ARM)
	Kernel: Container Host Kernel
	Compiler: gcc 10.2.1

Ubuntu 20.04 ARM Clang Cross Compile
	Kernel: 5.4.0-72-generic
	Compiler: clang version 10.0.0-4ubuntu1

To view detailed results, visit:
https://lab.dpdk.org/results/dashboard/patchsets/27843/

UNH-IOL DPDK Community Lab

To manage your email subscriptions, visit: 
https://lab.dpdk.org/results/dashboard/preferences/subscriptions/


More information about the test-report mailing list