|SUCCESS| pw132370 [PATCH] [v4] app/testpmd: enable cli for programm
dpdklab at iol.unh.edu
dpdklab at iol.unh.edu
Sat Oct 7 12:37:11 CEST 2023
Test-Label: iol-compile-amd64-testing
Test-Status: SUCCESS
http://dpdk.org/patch/132370
_Testing PASS_
Submitter: Qi Zhang <qi.z.zhang at intel.com>
Date: Saturday, October 07 2023 10:47:30
DPDK git baseline: Repo:dpdk-next-net
Branch: master
CommitID:40435075a790fac6e5d5ad7a967950f5e56e45c8
132370 --> testing pass
Test environment and result as below:
+---------------------+--------------------+----------------------+
| Environment | dpdk_meson_compile | dpdk_mingw64_compile |
+=====================+====================+======================+
| FreeBSD 13 | PASS | SKIPPED |
+---------------------+--------------------+----------------------+
| Windows Server 2019 | PASS | PASS |
+---------------------+--------------------+----------------------+
FreeBSD 13
Kernel: 13.0
Compiler: clang 11.0.1
Windows Server 2019
Kernel: 10.0
Compiler: clang 14.0 and gcc 8.1.0 (MinGW)
To view detailed results, visit:
https://lab.dpdk.org/results/dashboard/patchsets/27847/
UNH-IOL DPDK Community Lab
To manage your email subscriptions, visit:
https://lab.dpdk.org/results/dashboard/preferences/subscriptions/
More information about the test-report
mailing list