|SUCCESS| pw132399-132400 [PATCH] [v4,2/2] app/testpmd: add flush al
    dpdklab at iol.unh.edu 
    dpdklab at iol.unh.edu
       
    Sun Oct  8 11:54:51 CEST 2023
    
    
  
Test-Label: iol-compile-amd64-testing
Test-Status: SUCCESS
http://dpdk.org/patch/132400
_Testing PASS_
Submitter: Dengdui Huang <huangdengdui at huawei.com>
Date: Sunday, October 08 2023 06:46:20 
DPDK git baseline: Repo:dpdk
  Branch: master
  CommitID:4dd146e597d81d900140a904e0b3b9feb1b0be6c
132399-132400 --> testing pass
Test environment and result as below:
+---------------------+--------------------+----------------------+
|     Environment     | dpdk_meson_compile | dpdk_mingw64_compile |
+=====================+====================+======================+
| FreeBSD 13          | PASS               | SKIPPED              |
+---------------------+--------------------+----------------------+
| Windows Server 2019 | PASS               | PASS                 |
+---------------------+--------------------+----------------------+
FreeBSD 13
	Kernel: 13.0
	Compiler: clang 11.0.1
Windows Server 2019
	Kernel: 10.0
	Compiler: clang 14.0 and gcc 8.1.0 (MinGW)
To view detailed results, visit:
https://lab.dpdk.org/results/dashboard/patchsets/27854/
UNH-IOL DPDK Community Lab
To manage your email subscriptions, visit: 
https://lab.dpdk.org/results/dashboard/preferences/subscriptions/
    
    
More information about the test-report
mailing list