|SUCCESS| pw132420 [PATCH] [v2] config/arm: update aarch32 build wit
    dpdklab at iol.unh.edu 
    dpdklab at iol.unh.edu
       
    Mon Oct  9 13:31:06 CEST 2023
    
    
  
Test-Label: iol-compile-amd64-testing
Test-Status: SUCCESS
http://dpdk.org/patch/132420
_Testing PASS_
Submitter: Juraj Linkes <juraj.linkes at pantheon.tech>
Date: Monday, October 09 2023 09:53:25 
DPDK git baseline: Repo:dpdk
  Branch: master
  CommitID:4dd146e597d81d900140a904e0b3b9feb1b0be6c
132420 --> testing pass
Test environment and result as below:
+---------------------+--------------------+----------------------+
|     Environment     | dpdk_meson_compile | dpdk_mingw64_compile |
+=====================+====================+======================+
| FreeBSD 13          | PASS               | SKIPPED              |
+---------------------+--------------------+----------------------+
| Windows Server 2019 | PASS               | PASS                 |
+---------------------+--------------------+----------------------+
| CentOS Stream 8     | PASS               | SKIPPED              |
+---------------------+--------------------+----------------------+
FreeBSD 13
	Kernel: 13.0
	Compiler: clang 11.0.1
Windows Server 2019
	Kernel: 10.0
	Compiler: clang 14.0 and gcc 8.1.0 (MinGW)
CentOS Stream 8
	Kernel: 4.18.0-240.10.1.el8_3.x86_64
	Compiler: gcc 8.4.1 20200928
To view detailed results, visit:
https://lab.dpdk.org/results/dashboard/patchsets/27858/
UNH-IOL DPDK Community Lab
To manage your email subscriptions, visit: 
https://lab.dpdk.org/results/dashboard/preferences/subscriptions/
    
    
More information about the test-report
mailing list