|SUCCESS| pw132411-132419 [PATCH] [v10,9/9] net/cpfl: support repres
    dpdklab at iol.unh.edu 
    dpdklab at iol.unh.edu
       
    Mon Oct  9 15:49:19 CEST 2023
    
    
  
Test-Label: iol-unit-arm64-testing
Test-Status: SUCCESS
http://dpdk.org/patch/132419
_Testing PASS_
Submitter: Zhang, Yuying <yuying.zhang at intel.com>
Date: Monday, October 09 2023 04:00:18 
DPDK git baseline: Repo:dpdk-next-net-intel
  Branch: master
  CommitID:8e7df204672364536c04a27cef1b43d33920599b
132411-132419 --> testing pass
Test environment and result as below:
+----------------------+------------------------------+---------------------------+--------------+
|     Environment      | cryptodev_sw_snow3g_autotest | cryptodev_sw_zuc_autotest | lpm_autotest |
+======================+==============================+===========================+==============+
| Debian 11 (arm)      | PASS                         | PASS                      | SKIPPED      |
+----------------------+------------------------------+---------------------------+--------------+
| Ubuntu 20.04 ARM SVE | SKIPPED                      | SKIPPED                   | PASS         |
+----------------------+------------------------------+---------------------------+--------------+
Debian 11 (arm)
	Kernel: Container Host Kernel
	Compiler: gcc 10.2.1
Ubuntu 20.04 ARM SVE
	Kernel: 5.4.0-80-generic
	Compiler: gcc 10.3.0 (Ubuntu 10.3.0-1ubuntu1~20.04)
To view detailed results, visit:
https://lab.dpdk.org/results/dashboard/patchsets/27857/
UNH-IOL DPDK Community Lab
To manage your email subscriptions, visit: 
https://lab.dpdk.org/results/dashboard/preferences/subscriptions/
    
    
More information about the test-report
mailing list