|SUCCESS| pw132433-132435 [PATCH] [v6,3/3] power: amd power monitor 
    dpdklab at iol.unh.edu 
    dpdklab at iol.unh.edu
       
    Mon Oct  9 17:26:56 CEST 2023
    
    
  
Test-Label: iol-compile-amd64-testing
Test-Status: SUCCESS
http://dpdk.org/patch/132435
_Testing PASS_
Submitter: Sivaprasad Tummala <Sivaprasad.Tummala at amd.com>
Date: Monday, October 09 2023 14:05:46 
DPDK git baseline: Repo:dpdk
  Branch: master
  CommitID:4dd146e597d81d900140a904e0b3b9feb1b0be6c
132433-132435 --> testing pass
Test environment and result as below:
+---------------------+----------------------+--------------------+
|     Environment     | dpdk_mingw64_compile | dpdk_meson_compile |
+=====================+======================+====================+
| Windows Server 2019 | PASS                 | PASS               |
+---------------------+----------------------+--------------------+
| FreeBSD 13          | SKIPPED              | PASS               |
+---------------------+----------------------+--------------------+
| CentOS Stream 8     | SKIPPED              | PASS               |
+---------------------+----------------------+--------------------+
| Debian Buster       | SKIPPED              | PASS               |
+---------------------+----------------------+--------------------+
| CentOS Stream 9     | SKIPPED              | PASS               |
+---------------------+----------------------+--------------------+
| openSUSE Leap 15    | SKIPPED              | PASS               |
+---------------------+----------------------+--------------------+
Windows Server 2019
	Kernel: 10.0
	Compiler: clang 14.0 and gcc 8.1.0 (MinGW)
FreeBSD 13
	Kernel: 13.0
	Compiler: clang 11.0.1
CentOS Stream 8
	Kernel: 4.18.0-240.10.1.el8_3.x86_64
	Compiler: gcc 8.4.1 20200928
Debian Buster
	Kernel: 5.4.0-122-generic
	Compiler: gcc 8.3.0-6
CentOS Stream 9
	Kernel: 4.18.0-240.10.1.el8_3.x86_64
	Compiler: gcc 11.3.1 20220421
openSUSE Leap 15
	Kernel: 4.18.0-240.10.1.el8_3.x86_64
	Compiler: gcc 7.5.0
To view detailed results, visit:
https://lab.dpdk.org/results/dashboard/patchsets/27864/
UNH-IOL DPDK Community Lab
To manage your email subscriptions, visit: 
https://lab.dpdk.org/results/dashboard/preferences/subscriptions/
    
    
More information about the test-report
mailing list