|SUCCESS| pw132440 [PATCH] [v2,1/1] usertools/rss: add CNXK RSS key
dpdklab at iol.unh.edu
dpdklab at iol.unh.edu
Mon Oct 9 23:18:13 CEST 2023
Test-Label: iol-unit-amd64-testing
Test-Status: SUCCESS
http://dpdk.org/patch/132440
_Testing PASS_
Submitter: Sunil Kumar Kori <skori at marvell.com>
Date: Monday, October 09 2023 16:36:10
DPDK git baseline: Repo:dpdk
Branch: master
CommitID:4dd146e597d81d900140a904e0b3b9feb1b0be6c
132440 --> testing pass
Test environment and result as below:
+---------------------+----------------+
| Environment | dpdk_unit_test |
+=====================+================+
| Windows Server 2019 | PASS |
+---------------------+----------------+
| CentOS Stream 8 | PASS |
+---------------------+----------------+
| CentOS Stream 9 | PASS |
+---------------------+----------------+
Windows Server 2019
Kernel: 10.0
Compiler: clang 14.0 and gcc 8.1.0 (MinGW)
CentOS Stream 8
Kernel: 4.18.0-240.10.1.el8_3.x86_64
Compiler: gcc 8.4.1 20200928
CentOS Stream 9
Kernel: 4.18.0-240.10.1.el8_3.x86_64
Compiler: gcc 11.3.1 20220421
To view detailed results, visit:
https://lab.dpdk.org/results/dashboard/patchsets/27869/
UNH-IOL DPDK Community Lab
To manage your email subscriptions, visit:
https://lab.dpdk.org/results/dashboard/preferences/subscriptions/
More information about the test-report
mailing list