|SUCCESS| [GIT MASTER] 4dd146e597d81d900140a904e0b3b9feb1b0be6c
dpdklab at iol.unh.edu
dpdklab at iol.unh.edu
Tue Oct 10 00:52:27 CEST 2023
_Testing PASS_
Branch: dpdk
4dd146e597d81d900140a904e0b3b9feb1b0be6c --> testing pass
Test environment and result as below:
+------------------+----------------+
| Environment | dpdk_unit_test |
+==================+================+
| Fedora 37 | PASS |
+------------------+----------------+
| Debian Buster | PASS |
+------------------+----------------+
| Fedora 38 | PASS |
+------------------+----------------+
| CentOS Stream 9 | PASS |
+------------------+----------------+
| CentOS Stream 8 | PASS |
+------------------+----------------+
| Debian Bullseye | PASS |
+------------------+----------------+
| openSUSE Leap 15 | PASS |
+------------------+----------------+
Fedora 37
Kernel: Depends on container host system
Compiler: gcc 12.3.1
Debian Buster
Kernel: 5.4.0-122-generic
Compiler: gcc 8.3.0-6
Fedora 38
Kernel: Depends on container host
Compiler: gcc 13.1.1
CentOS Stream 9
Kernel: 4.18.0-240.10.1.el8_3.x86_64
Compiler: gcc 11.3.1 20220421
CentOS Stream 8
Kernel: 4.18.0-240.10.1.el8_3.x86_64
Compiler: gcc 8.4.1 20200928
Debian Bullseye
Kernel: 5.4.0-122-generic
Compiler: gcc 10.2.1-6
openSUSE Leap 15
Kernel: 4.18.0-240.10.1.el8_3.x86_64
Compiler: gcc 7.5.0
To view detailed results, visit:
https://lab.dpdk.org/results/dashboard/tarballs/26407/
UNH-IOL DPDK Community Lab
To manage your email subscriptions, visit:
https://lab.dpdk.org/results/dashboard/preferences/subscriptions/
More information about the test-report
mailing list