|SUCCESS| [GIT MASTER] 4dd146e597d81d900140a904e0b3b9feb1b0be6c
    dpdklab at iol.unh.edu 
    dpdklab at iol.unh.edu
       
    Tue Oct 10 02:33:06 CEST 2023
    
    
  
_Testing PASS_
Branch: dpdk
4dd146e597d81d900140a904e0b3b9feb1b0be6c --> testing pass
Test environment and result as below:
+-----------------+----------------+
|   Environment   | dpdk_unit_test |
+=================+================+
| Ubuntu 22.04    | PASS           |
+-----------------+----------------+
| CentOS Stream 9 | PASS           |
+-----------------+----------------+
| CentOS Stream 8 | PASS           |
+-----------------+----------------+
Ubuntu 22.04
	Kernel: 4.18.0-240.10.1.el8_3.x86_64
	Compiler: gcc 11.3.0
CentOS Stream 9
	Kernel: 4.18.0-240.10.1.el8_3.x86_64
	Compiler: gcc 11.3.1 20220421
CentOS Stream 8
	Kernel: 4.18.0-240.10.1.el8_3.x86_64
	Compiler: gcc 8.4.1 20200928
To view detailed results, visit:
https://lab.dpdk.org/results/dashboard/tarballs/26408/
UNH-IOL DPDK Community Lab
To manage your email subscriptions, visit: 
https://lab.dpdk.org/results/dashboard/preferences/subscriptions/
    
    
More information about the test-report
mailing list