|SUCCESS| [GIT MASTER] 4dd146e597d81d900140a904e0b3b9feb1b0be6c
    dpdklab at iol.unh.edu 
    dpdklab at iol.unh.edu
       
    Tue Oct 10 03:14:14 CEST 2023
    
    
  
_Testing PASS_
Branch: dpdk
4dd146e597d81d900140a904e0b3b9feb1b0be6c --> testing pass
Test environment and result as below:
+------------------+--------------------+
|   Environment    | dpdk_meson_compile |
+==================+====================+
| Debian Bullseye  | PASS               |
+------------------+--------------------+
| CentOS Stream 9  | PASS               |
+------------------+--------------------+
| CentOS Stream 8  | PASS               |
+------------------+--------------------+
| Ubuntu 20.04     | PASS               |
+------------------+--------------------+
| Fedora 38        | PASS               |
+------------------+--------------------+
| RHEL8            | PASS               |
+------------------+--------------------+
| FreeBSD 13       | PASS               |
+------------------+--------------------+
| Fedora 37        | PASS               |
+------------------+--------------------+
| openSUSE Leap 15 | PASS               |
+------------------+--------------------+
| Alpine           | PASS               |
+------------------+--------------------+
Debian Bullseye
	Kernel: 5.4.0-122-generic
	Compiler: gcc 10.2.1-6
CentOS Stream 9
	Kernel: 4.18.0-240.10.1.el8_3.x86_64
	Compiler: gcc 11.3.1 20220421
CentOS Stream 8
	Kernel: 4.18.0-240.10.1.el8_3.x86_64
	Compiler: gcc 8.4.1 20200928
Ubuntu 20.04
	Kernel: 5.4.0-153-generic
	Compiler: gcc 9.4.0-1ubuntu1~20.04.1
Fedora 38
	Kernel: Depends on container host
	Compiler: gcc 13.1.1
RHEL8
	Kernel: 4.18.0-240.10.1.el8_3.x86_64
	Compiler: gcc 8.3.1 20191121 (Red Hat 8.3.1-5)
FreeBSD 13
	Kernel: 13.0
	Compiler: clang 11.0.1
Fedora 37
	Kernel: Depends on container host system
	Compiler: gcc 12.3.1
openSUSE Leap 15
	Kernel: 4.18.0-240.10.1.el8_3.x86_64
	Compiler: gcc 7.5.0
Alpine
	Kernel: 5.4.0-73-generic
	Compiler: gcc (Alpine 10.3.1_git20210424) 10.3.1 20210424
To view detailed results, visit:
https://lab.dpdk.org/results/dashboard/tarballs/26409/
UNH-IOL DPDK Community Lab
To manage your email subscriptions, visit: 
https://lab.dpdk.org/results/dashboard/preferences/subscriptions/
    
    
More information about the test-report
mailing list