|SUCCESS| pw132459-132460 [PATCH] [v4,2/2] test/cryptodev: add Rx in
dpdklab at iol.unh.edu
dpdklab at iol.unh.edu
Tue Oct 10 20:02:00 CEST 2023
Test-Label: iol-unit-arm64-testing
Test-Status: SUCCESS
http://dpdk.org/patch/132460
_Testing PASS_
Submitter: Anoob Joseph <anoobj at marvell.com>
Date: Tuesday, October 10 2023 10:32:12
DPDK git baseline: Repo:dpdk-next-crypto
Branch: master
CommitID:34325c1a5d1140ac702d3a5d804f86aebe462589
132459-132460 --> testing pass
Test environment and result as below:
+----------------------+---------------------------+------------------------------+--------------+
| Environment | cryptodev_sw_zuc_autotest | cryptodev_sw_snow3g_autotest | lpm_autotest |
+======================+===========================+==============================+==============+
| Debian 11 (arm) | PASS | PASS | SKIPPED |
+----------------------+---------------------------+------------------------------+--------------+
| Ubuntu 20.04 ARM SVE | SKIPPED | SKIPPED | PASS |
+----------------------+---------------------------+------------------------------+--------------+
Debian 11 (arm)
Kernel: Container Host Kernel
Compiler: gcc 10.2.1
Ubuntu 20.04 ARM SVE
Kernel: 5.4.0-80-generic
Compiler: gcc 10.3.0 (Ubuntu 10.3.0-1ubuntu1~20.04)
To view detailed results, visit:
https://lab.dpdk.org/results/dashboard/patchsets/27879/
UNH-IOL DPDK Community Lab
To manage your email subscriptions, visit:
https://lab.dpdk.org/results/dashboard/preferences/subscriptions/
More information about the test-report
mailing list