|SUCCESS| pw132463 [PATCH] [v2] common/mlx5: Optimize mlx5 mempool g
    dpdklab at iol.unh.edu 
    dpdklab at iol.unh.edu
       
    Wed Oct 11 02:42:10 CEST 2023
    
    
  
Test-Label: iol-unit-arm64-testing
Test-Status: SUCCESS
http://dpdk.org/patch/132463
_Testing PASS_
Submitter: Aaron Conole <aconole at redhat.com>
Date: Tuesday, October 10 2023 14:38:00 
DPDK git baseline: Repo:dpdk
  Branch: master
  CommitID:4dd146e597d81d900140a904e0b3b9feb1b0be6c
132463 --> testing pass
Test environment and result as below:
+----------------------+------------------------------+--------------+---------------------------+
|     Environment      | cryptodev_sw_snow3g_autotest | lpm_autotest | cryptodev_sw_zuc_autotest |
+======================+==============================+==============+===========================+
| Debian 11 (arm)      | PASS                         | SKIPPED      | PASS                      |
+----------------------+------------------------------+--------------+---------------------------+
| Ubuntu 20.04 ARM SVE | SKIPPED                      | PASS         | SKIPPED                   |
+----------------------+------------------------------+--------------+---------------------------+
Debian 11 (arm)
	Kernel: Container Host Kernel
	Compiler: gcc 10.2.1
Ubuntu 20.04 ARM SVE
	Kernel: 5.4.0-80-generic
	Compiler: gcc 10.3.0 (Ubuntu 10.3.0-1ubuntu1~20.04)
To view detailed results, visit:
https://lab.dpdk.org/results/dashboard/patchsets/27882/
UNH-IOL DPDK Community Lab
To manage your email subscriptions, visit: 
https://lab.dpdk.org/results/dashboard/preferences/subscriptions/
    
    
More information about the test-report
mailing list