|SUCCESS| pw132450 [PATCH] net/nfp: fix the initialization of physic
dpdklab at iol.unh.edu
dpdklab at iol.unh.edu
Wed Oct 11 04:24:20 CEST 2023
Test-Label: iol-compile-amd64-testing
Test-Status: SUCCESS
http://dpdk.org/patch/132450
_Testing PASS_
Submitter: Chaoyong He <chaoyong.he at corigine.com>
Date: Tuesday, October 10 2023 06:03:12
DPDK git baseline: Repo:dpdk
Branch: master
CommitID:4dd146e597d81d900140a904e0b3b9feb1b0be6c
132450 --> testing pass
Test environment and result as below:
+---------------------+--------------------+
| Environment | dpdk_meson_compile |
+=====================+====================+
| FreeBSD 13 | PASS |
+---------------------+--------------------+
| Windows Server 2019 | PASS |
+---------------------+--------------------+
| CentOS Stream 8 | PASS |
+---------------------+--------------------+
| CentOS Stream 9 | PASS |
+---------------------+--------------------+
| Debian Buster | PASS |
+---------------------+--------------------+
| Fedora 38 | PASS |
+---------------------+--------------------+
| Debian Bullseye | PASS |
+---------------------+--------------------+
| Ubuntu 22.04 | PASS |
+---------------------+--------------------+
| Fedora 37 | PASS |
+---------------------+--------------------+
FreeBSD 13
Kernel: 13.0
Compiler: clang 11.0.1
Windows Server 2019
Kernel: 10.0
Compiler: clang 14.0 and gcc 8.1.0 (MinGW)
CentOS Stream 8
Kernel: 4.18.0-240.10.1.el8_3.x86_64
Compiler: gcc 8.4.1 20200928
CentOS Stream 9
Kernel: 4.18.0-240.10.1.el8_3.x86_64
Compiler: gcc 11.3.1 20220421
Debian Buster
Kernel: 5.4.0-122-generic
Compiler: gcc 8.3.0-6
Fedora 38
Kernel: Depends on container host
Compiler: gcc 13.1.1
Debian Bullseye
Kernel: 5.4.0-122-generic
Compiler: gcc 10.2.1-6
Ubuntu 22.04
Kernel: 4.18.0-240.10.1.el8_3.x86_64
Compiler: gcc 11.3.0
Fedora 37
Kernel: Depends on container host system
Compiler: gcc 12.3.1
To view detailed results, visit:
https://lab.dpdk.org/results/dashboard/patchsets/27873/
UNH-IOL DPDK Community Lab
To manage your email subscriptions, visit:
https://lab.dpdk.org/results/dashboard/preferences/subscriptions/
More information about the test-report
mailing list