|SUCCESS| pw132471-132482 [PATCH] [v6,12/12] baseband/acc: add confi

dpdklab at iol.unh.edu dpdklab at iol.unh.edu
Wed Oct 11 08:35:58 CEST 2023


Test-Label: iol-unit-arm64-testing
Test-Status: SUCCESS
http://dpdk.org/patch/132482

_Testing PASS_

Submitter: Nicolas Chautru <nicolas.chautru at intel.com>
Date: Tuesday, October 10 2023 20:20:49 
DPDK git baseline: Repo:dpdk-next-baseband
  Branch: master
  CommitID:fbafb3676c482dab60c0b5465b47f2ea33893a36

132471-132482 --> testing pass

Test environment and result as below:

+----------------------+------------------------------+---------------------------+--------------+
|     Environment      | cryptodev_sw_snow3g_autotest | cryptodev_sw_zuc_autotest | lpm_autotest |
+======================+==============================+===========================+==============+
| Debian 11 (arm)      | PASS                         | PASS                      | SKIPPED      |
+----------------------+------------------------------+---------------------------+--------------+
| Ubuntu 20.04 ARM SVE | SKIPPED                      | SKIPPED                   | PASS         |
+----------------------+------------------------------+---------------------------+--------------+


Debian 11 (arm)
	Kernel: Container Host Kernel
	Compiler: gcc 10.2.1

Ubuntu 20.04 ARM SVE
	Kernel: 5.4.0-80-generic
	Compiler: gcc 10.3.0 (Ubuntu 10.3.0-1ubuntu1~20.04)

To view detailed results, visit:
https://lab.dpdk.org/results/dashboard/patchsets/27889/

UNH-IOL DPDK Community Lab

To manage your email subscriptions, visit: 
https://lab.dpdk.org/results/dashboard/preferences/subscriptions/


More information about the test-report mailing list