|SUCCESS| [GIT MASTER] 7849366693a2a2cbc5279a6bfd39cbb457fe7c96

dpdklab at iol.unh.edu dpdklab at iol.unh.edu
Wed Oct 11 12:21:10 CEST 2023


_Testing PASS_

Branch: tags/v22.11

7849366693a2a2cbc5279a6bfd39cbb457fe7c96 --> testing pass

Test environment and result as below:

+---------------+--------------------+
|  Environment  | dpdk_meson_compile |
+===============+====================+
| FreeBSD 13    | PASS               |
+---------------+--------------------+
| Debian Buster | PASS               |
+---------------+--------------------+
| Fedora 38     | PASS               |
+---------------+--------------------+


FreeBSD 13
	Kernel: 13.0
	Compiler: clang 11.0.1

Debian Buster
	Kernel: 5.4.0-122-generic
	Compiler: gcc 8.3.0-6

Fedora 38
	Kernel: Depends on container host
	Compiler: gcc 13.1.1

To view detailed results, visit:
https://lab.dpdk.org/results/dashboard/tarballs/26434/

UNH-IOL DPDK Community Lab

To manage your email subscriptions, visit: 
https://lab.dpdk.org/results/dashboard/preferences/subscriptions/


More information about the test-report mailing list