|SUCCESS| [GIT MASTER] 4e50ad4469f7c037e32de5aa3535d1cd25de0741
    dpdklab at iol.unh.edu 
    dpdklab at iol.unh.edu
       
    Wed Oct 11 14:20:20 CEST 2023
    
    
  
_Testing PASS_
Branch: tags/v21.11
4e50ad4469f7c037e32de5aa3535d1cd25de0741 --> testing pass
Test environment and result as below:
+-----------------+--------------------+
|   Environment   | dpdk_meson_compile |
+=================+====================+
| FreeBSD 13      | PASS               |
+-----------------+--------------------+
| CentOS Stream 8 | PASS               |
+-----------------+--------------------+
| Debian Buster   | PASS               |
+-----------------+--------------------+
| Fedora 38       | PASS               |
+-----------------+--------------------+
| Fedora 37       | PASS               |
+-----------------+--------------------+
FreeBSD 13
	Kernel: 13.0
	Compiler: clang 11.0.1
CentOS Stream 8
	Kernel: 4.18.0-240.10.1.el8_3.x86_64
	Compiler: gcc 8.4.1 20200928
Debian Buster
	Kernel: 5.4.0-122-generic
	Compiler: gcc 8.3.0-6
Fedora 38
	Kernel: Depends on container host
	Compiler: clang 16.0.3
Fedora 37
	Kernel: Depends on container host system
	Compiler: gcc 12.3.1
To view detailed results, visit:
https://lab.dpdk.org/results/dashboard/tarballs/26437/
UNH-IOL DPDK Community Lab
To manage your email subscriptions, visit: 
https://lab.dpdk.org/results/dashboard/preferences/subscriptions/
    
    
More information about the test-report
mailing list