|SUCCESS| pw132493 [PATCH] [v6] app/testpmd: enable cli for programm
dpdklab at iol.unh.edu
dpdklab at iol.unh.edu
Wed Oct 11 14:32:27 CEST 2023
Test-Label: iol-unit-arm64-testing
Test-Status: SUCCESS
http://dpdk.org/patch/132493
_Testing PASS_
Submitter: Qi Zhang <qi.z.zhang at intel.com>
Date: Wednesday, October 11 2023 12:03:32
DPDK git baseline: Repo:dpdk
Branch: master
CommitID:a3d2c6974f915eb9cb3d015afdc4cc72537a6159
132493 --> testing pass
Test environment and result as below:
+----------------------+---------------------------+------------------------------+--------------+
| Environment | cryptodev_sw_zuc_autotest | cryptodev_sw_snow3g_autotest | lpm_autotest |
+======================+===========================+==============================+==============+
| Debian 11 (arm) | PASS | PASS | SKIPPED |
+----------------------+---------------------------+------------------------------+--------------+
| Ubuntu 20.04 ARM SVE | SKIPPED | SKIPPED | PASS |
+----------------------+---------------------------+------------------------------+--------------+
Debian 11 (arm)
Kernel: Container Host Kernel
Compiler: gcc 10.2.1
Ubuntu 20.04 ARM SVE
Kernel: 5.4.0-80-generic
Compiler: gcc 10.3.0 (Ubuntu 10.3.0-1ubuntu1~20.04)
To view detailed results, visit:
https://lab.dpdk.org/results/dashboard/patchsets/27896/
UNH-IOL DPDK Community Lab
To manage your email subscriptions, visit:
https://lab.dpdk.org/results/dashboard/preferences/subscriptions/
More information about the test-report
mailing list