|SUCCESS| pw132554-132558 [PATCH] [v3,5/5] examples/bond: auto-gener
dpdklab at iol.unh.edu
dpdklab at iol.unh.edu
Thu Oct 12 06:28:06 CEST 2023
Test-Label: iol-unit-arm64-testing
Test-Status: SUCCESS
http://dpdk.org/patch/132558
_Testing PASS_
Submitter: Bruce Richardson <bruce.richardson at intel.com>
Date: Wednesday, October 11 2023 13:33:57
DPDK git baseline: Repo:dpdk
Branch: master
CommitID:a1934215a7691a86c55d415bd01ae8318581b67a
132554-132558 --> testing pass
Test environment and result as below:
+----------------------+---------------------------+--------------+------------------------------+
| Environment | cryptodev_sw_zuc_autotest | lpm_autotest | cryptodev_sw_snow3g_autotest |
+======================+===========================+==============+==============================+
| Debian 11 (arm) | PASS | SKIPPED | PASS |
+----------------------+---------------------------+--------------+------------------------------+
| Ubuntu 20.04 ARM SVE | SKIPPED | PASS | SKIPPED |
+----------------------+---------------------------+--------------+------------------------------+
Debian 11 (arm)
Kernel: Container Host Kernel
Compiler: gcc 10.2.1
Ubuntu 20.04 ARM SVE
Kernel: 5.4.0-80-generic
Compiler: gcc 10.3.0 (Ubuntu 10.3.0-1ubuntu1~20.04)
To view detailed results, visit:
https://lab.dpdk.org/results/dashboard/patchsets/27910/
UNH-IOL DPDK Community Lab
To manage your email subscriptions, visit:
https://lab.dpdk.org/results/dashboard/preferences/subscriptions/
More information about the test-report
mailing list